BEGIN:VCALENDAR
VERSION:2.0
PRODID:SG Member / Odoo / icalendar
BEGIN:VEVENT
SUMMARY:Sommerlejr 2026 - Forhåndstilmelding (ikke bindende)
DTSTART:20260718T100000Z
DTEND:20260726T100000Z
DTSTAMP:20260421T143334Z
UID:24210@a3abba42-5f96-11ee-a13d-0242ac19e003
DESCRIPTION:\n\nBEMÆRK\, dette er “bare” forhåndstilmelding som er 
 “ikke-bindende”. Det er super vigtigt at vi får en ide om hvor mange 
 vi bliver så vi kan få den rette plads\, størrelse mv. så meld dig til
 \, selv om det måske bare er “måske“ i denne omgang.Spejdernes Lejr 
 er Nordens største spejderlejr med 30.000 deltagere fra ind- og udland. I
  juli 2026 slår vi lejr i Hedeland Naturpark til ni uforglemmelige dage m
 ed masser af lejrstemning\, udfordringer og fællesskab på tværs af græ
 nser\, alder og spejderkorps. Sommerlejren er for ALLE spejdere\, både un
 ge og gamle spejdere. Vi ser meget gerne en lejr for alle der vil være me
 d\, også klaner.Datoer og priserBævere (besøgsdag onsdag den 22 juli) -
  gratisUlveflok\, søndag 19-22 juli - 375krJunior\, Trop og Senior 18-26 
 juli - 1000kr. Klaner 18-26 juli - 1000kr. 
LOCATION:Roskilde Gruppe\, Eriksvej 50B\, 4000 Roskilde
END:VEVENT
END:VCALENDAR
