BEGIN:VCALENDAR
VERSION:2.0
PRODID:SG Member / Odoo / icalendar
BEGIN:VEVENT
SUMMARY:Julemærkemarch 2025
DTSTART:20251207T090000Z
DTEND:20251207T150000Z
DTSTAMP:20260419T132246Z
UID:24332@a3abba42-5f96-11ee-a13d-0242ac19e003
DESCRIPTION:Julemærkemarch\nmed KFUM spejderne Vordingborg\n\nKonceptet e
 r ganske enkelt: Vi samles og går en symbolsk tur i fællesskab\nmed andr
 e. Det koster 40 kroner at være med\, og overskuddet går til\nJulemærke
 hjemmene. Der er over 70 steder i Danmark\, hvor man går\nJulemærkemarc
 h. Her kan man vælge mellem mindst to ruter på enten 5 eller 10\nkilomet
 er.Vi\nlaver 2 hold et på 5 km og et på 10 km. Dem der går 10 km og ikk
 e har et\nvandreskjold vil få et udleveret ved slutlinjen.Julemærkemarch
 ens\noverskud samles hvert år til en donation\, som overrækkes til Julem
 ærkefonden\nved et arrangement på ét af de fem Julemærkehjem. Da salge
 t af Julemærker\ngenerelt er under pres\, er det vigtigere end nogensinde
  før\, at vi fortsætter\nmed at gå for den gode sag som vi har gjort ho
 s KFUM spejderne i Vordingborg i\nover 10 år. Julemærkemarchen er også
  en hyggelig social tradition\, der\nhvert år samler mange hold.  OBS\n
 HVIS DU VIL TILMELDE FLERE SPEJDERE SÅ TILMELD ALLE UNDER 1 SPEJDER - OBS
  PÅ AT\nVENTE TIL SIDEN IGEN ER TILBAGE I MEDLEMSSERVICE EFTER BETALINGEN
 \, DA VI ELLERS\nFÅR EN BLANK TILMELDING \;)\n\n\n\n\n\n
LOCATION:Julemærkemarch\, Nordhavnsvej 52\, 4760 Vordingborg
END:VEVENT
END:VCALENDAR
