BEGIN:VCALENDAR
VERSION:2.0
PRODID:SG Member / Odoo / icalendar
BEGIN:VEVENT
SUMMARY:Endelig tilmelding Spejdernes Lejr 2026
DTSTART:20260718T100000Z
DTEND:20260726T100000Z
DTSTAMP:20260423T141813Z
UID:25593@a3abba42-5f96-11ee-a13d-0242ac19e003
DESCRIPTION:Spejdernes Lejr er ikke en sommerlejr som I er vant til. Hvert
  5. år samles spejdere fra hele landet\, fra forskellige korps\, og er f
 ælles om en stor lejr med op til 30.000 spejdere. Det er en uge man ikke 
 glemmer lige foreløbig og derfor skal du selvfølgelig med. Spejdernes l
 ejr byder på et væld af sjove og udfordrende aktiviteter\, både i selve
  lejrområdet og ude i de omkringliggende kommuner. Alle aktiviteterne tag
 er afsæt i lejrens tema "Alle ind i fællesskabet" og er målrettet spejd
 ere i alle aldre. Der er plads til at udforske\, lære og vokse - uanset o
 m du er erfaren spejder eller helt ny i fællesskabet. I Buddinge gruppe\
 , har vi vores egen lejrplads\, hvor vi spiser morgenmad og aftensmad samm
 en\, laver mad over bål\, spiser ved et hjemmebygget spisebord og sover i
  telte. Vi bor omgivet af andre spejdere fra kommunen og der er rig muligh
 ed for at få nye venner\, man kan lege med og holde kontakten med når ma
 n kommer hjem. Datoer: Søndag d. 19/7 - Onsdag d. 22/7: Bævere og ulve
  deltager 4 dage på lejren som udgangspunkt.Lørdag d. 18/7 - Søndag d. 
 26/7: Junior\, trop og senior deltager alle lejrens dage. Tilmelding:Der 
 har været mulighed for en forhåndstilmelding\, har man forhåndstilmeldt
  sig\, så klikker man bare den af\, så betaler I kun 2. rate. Er man I t
 vivl om man har forhåndstilmeldt sig\, kan man tjekke sin mail\, medlemss
 ervice\, eller skrive til Camille. \n\nTilmeldingen lukker 25/2-26 kl. 23
 .59.59. Årsagen til at vi lukker for tilmeldingen er at den herefter er b
 indende\, og at priserne stiger. Det vil stadig være muligt at tilmelde s
 ig senere\, men det vil være lidt dyrere end den nuværende pris.  Har 
 I spørgsmål så skriv gerne til: Camille Tlf: + 45 23 88 41 50mail: ulv
 @buddingespejderne.dk
LOCATION:Hedeland Naturpark\, Flinterne 2\, Reerslev\, 2640 Hedehusene
END:VEVENT
END:VCALENDAR
