BEGIN:VCALENDAR
VERSION:2.0
PRODID:SG Member / Odoo / icalendar
BEGIN:VEVENT
SUMMARY:Arbejdsdag i Sct. Georg
DTSTART:20260425T070000Z
DTEND:20260425T140000Z
DTSTAMP:20260422T142708Z
UID:30505@a3abba42-5f96-11ee-a13d-0242ac19e003
DESCRIPTION:\n\nDerfor holder vi en hyggelig fælles ”arbejdsdag”  l
 ørdag 25. april – hvor alle gruppens medlemmer\, forældre og øvrige 
 voksne kan hjælpe i det omfang\, det passer ind i den enkeltes kalender. 
 Om bidraget blot strækker sig over en - to timer\, eller hele dagen – s
 å er alle velkomne.  \n\n​Vi mødes i Sct. Georg kl. 0900 til morgenm
 ad og påregner at slutte dagen omkring kl 16. ​\n\nVi starter efter\nmo
 rgenmaden med at fordele os på de forskellige arbejdsopgaver.\nUndervejs 
 er der kaffepauser med kage og frokost.​\n\nVi har en lang liste over op
 gaver\, som kommer på\, når vi kommer tættere på:​\n\nbeskåret bevo
 ksningenfyldt brændeskuret​Der er mulighed for at komme ud i Sct. Georg
  allerede fredag aften kl. 1800. Her spiser vi\naftensmad og vi overnatter
  i shelterne eller i hytten. Dette er kun for voksne.​\n\nAngiv i tilmel
 dingen\, hvornår du deltager af hensyn til indkøb af mad og drikkevarer.
 \nBørn er velkomne\ntil arbejdsdagen ifølge med forældre.\n\n\n\n\n\n\n
 \n\n\n\n\n\n\n\n\n\n​\n\n
LOCATION:Sct. Georg\, Tjørnehusvej 6\, Særløse Ovdr\, 4330 Hvalsø
END:VEVENT
END:VCALENDAR
