BEGIN:VCALENDAR
VERSION:2.0
PRODID:SG Member / Odoo / icalendar
BEGIN:VEVENT
SUMMARY:Juleweekend for hele gruppen
DTSTART:20261120T110000Z
DTEND:20261122T110000Z
DTSTAMP:20260422T140600Z
UID:31481@a3abba42-5f96-11ee-a13d-0242ac19e003
LOCATION:Vangede Gruppe\, Vangedevej 48\, 2820 Gentofte
END:VEVENT
END:VCALENDAR
