BEGIN:VCALENDAR
VERSION:2.0
PRODID:SG Member / Odoo / icalendar
BEGIN:VEVENT
SUMMARY:Ulvenes MUST-tur til Næsbycenteret
DTSTART:20260508T153000Z
DTEND:20260510T100000Z
DTSTAMP:20260420T031909Z
UID:32231@a3abba42-5f96-11ee-a13d-0242ac19e003
DESCRIPTION:Kære ulve.Nu skal vi på tur igen. Vi mødes på Eriksvej den
  8. maj klokken 17.30\, pakker bilerne og kører til Næsbycenteret. Næsb
 ycenteret er et spejdercenter\, der ligger ved Glumsø. Vi starter med at 
 rejse telte\, spise madpakker og flytte ind i teltene. Derefter vil der v
 ære leg og intro til weekendens program. Lørdag går det så løs med al
 le mulige sjover opgaver kombineret med leg og hygge. Lørdag aften vil de
 r være lejrbål inden puttetid. Søndag står vi op og pakker sammen og f
 år afslutningen på hele historien. Alle får et fint mærke til uniforme
 n.På denne tur vil vi gerne have hjælp til bagning af boller\, kage og t
 il kørsel ud og hjem . Meld venligst ind med dette på tilmeldingen. Vi f
 år ganske vist mad på lejren\, men en lille snack er altid rar at have.N
 år vi skal hjem\, vil vi gerne hentes klokken 12.00\, så vi kan være kl
 ar til afslutning på Eriksvej klokken 13.00.Adressen er: \n\nSkelbyvej 1
 26 \, 4171 Glumsø\n\nDu skal medbringe:madpakke til fredag aftensovepose
 liggeunderlaglille hovedpudevarmt nattøjsovebamsetoiletgrejspisegrej incl
  viskestykkeskiftetøjvarmt tøjregntøj incl gummistøvlerlommelygteSkynd
  dig at melde dig til\, det bliver en god tur. Da det er en centerlejr\, h
 ar vi en deadline for endelig tilmelding. Derfor må I meget gerne melde h
 urtigt til.UlvehilsenAnnika\, Martin\, Jørgen og Mette.
LOCATION:Roskilde Gruppe\, Eriksvej 50B\, 4000 Roskilde
END:VEVENT
END:VCALENDAR
