BEGIN:VCALENDAR
VERSION:2.0
PRODID:SG Member / Odoo / icalendar
BEGIN:VEVENT
SUMMARY:Fisketur Junior og trop
DTSTART:20260520T160000Z
DTEND:20260520T183000Z
DTSTAMP:20260421T141657Z
UID:32261@a3abba42-5f96-11ee-a13d-0242ac19e003
DESCRIPTION:Vi skal ud og fiske ved munkholmbroen. Praktisk info:Vi møde
 s som sædvanlig på Eriksvej hvorefter vi kører ud til Munkholmbroen hvo
 r vi forhåbentlig får fanget en masse fisk. man behøver ikke at vide no
 get om at fiske eller have udstyr med\, det er altsammen sørget for. Vi 
 tilbage på eriksvej igen kl 2030. 
END:VEVENT
END:VCALENDAR
