BEGIN:VCALENDAR
VERSION:2.0
PRODID:SG Member / Odoo / icalendar
BEGIN:VEVENT
SUMMARY:Hvordan fastholder vi spejdere? - workshop for ledere
DTSTART:20231123T170000Z
DTEND:20231123T200000Z
DTSTAMP:20260424T221147Z
UID:8920@a3abba42-5f96-11ee-a13d-0242ac19e003
DESCRIPTION:Med afsæt i en kort intro til aktuelle rammevilkår for børn
 e- og ungdomslivet\, samt data fra hhv. en fravalgs- og trivselsmåling ho
 s KFUM-spejderne\, skal vi denne aften arbejde med hvordan vi bliver endnu
  bedre til at tage imod nye spejdere\, samt hvordan vi udvikler et spejder
 arbejde hvor de også har lyst til at være efter de er fyldt 11 år. Og d
 et handler ikke om at ”fastholde”\, men om at ”grave vandhuller”\,
  hvor de oplever at tilegne sig nye færdigheder både som spejdere og men
 nesker. Hvordan vi får gravet de vandhuller er det vi sammen skal blive k
 logere på denne aften\, som gerne skulle give deltagere helt konkret reds
 kaber med hjem til det lokale spejderarbejde. Workshopleder er Søren Øs
 tergaard\, centerleder på Center for Ungdomsstudier\, der udover at arbej
 de med ungdomsforskning\, også har en lang spejderkarriere med i rygsækk
 en.
LOCATION:Søften Kirke\, Skolevej 7\, Søften\, 8382 Hinnerup
END:VEVENT
END:VCALENDAR
