BEGIN:VCALENDAR
VERSION:2.0
PRODID:SG Member / Odoo / icalendar
BEGIN:VEVENT
SUMMARY:Spejdernes lejr 2026 - del betaling 2
DTSTART:20260718T210000Z
DTEND:20260726T210000Z
DTSTAMP:20260421T082729Z
UID:25007@a3abba42-5f96-11ee-a13d-0242ac19e003
DESCRIPTION:Kære spejdere og forældreVi har en helt særligt spejderlejr
  foran os – SPEJDERNES LEJR 2026!Hvert femte år samles tusindvis af sp
 ejdere fra hele Danmark (og mange andre lande) til en kæmpe sommerlejr\, 
 og igen går turen til Hedeland Naturpark på Sjælland. Fra den 18. ju
 li til den 26. juli 2026 vil vi opleve ni dage fyldt med spejderliv\, sjo
 ve aktiviteter\, nye venskaber og masser af fællesskab Praktisk info:Tid
 : 18.–26. juli 2026 (kortere periode for de yngste)Sted: Hedeland Natu
 rpark\, SjællandPris: 2000 kr. for hele lejren. Transport: Vi arranger
 er fælles transport\, så alle kommer godt frem og tilbageBetaling: Spej
 dernes lejr er kontantløs\, derfor kommer alt betaling til at foregå med
  enten chiparmbånd\, som alle spejdere får udleveret\, hvor man kan sæt
 te penge ind på armbåndet. Mere info følger. Ellers kan der bruges beta
 lingskort.Vi glæder os til at tage på eventyr sammen med jer! Følg link
 et for mere praktisk info Spejdernes Lejr 2026Andet info som pakkeliste o
 g mødested kommer senere.Hvis der er spørgsmål til det mindste\, så ka
 n I kontakte spejderlederne i jeres enhed.Frist for 2. betaling delt i 3 
 er den 01-04-2026.Tilmelding/betaling er bindende.\n\n
LOCATION:Strandboerne - Vallensbæk Gruppe\, Rendsagervej 3\, 2625 Vallens
 bæk
END:VEVENT
BEGIN:VEVENT
SUMMARY:Spejdernes lejr - frivillig
DTSTART:20260718T100500Z
DTEND:20260726T120500Z
DTSTAMP:20260421T082729Z
UID:30532@a3abba42-5f96-11ee-a13d-0242ac19e003
DESCRIPTION:Spejdernes lejr 2026Hvis du har\, eller skal\, arbejde minimum
  40 timer før\, under eller efter Spejdernes Lejr\, skal du tilmelde dig 
 igennem frivillig tilmelding og sende betalingen til gruppen. Du skal der
 for OGSÅ tilmelde dig her\, da det er her\, betalingen sker\, hvis du øn
 sker at få 500kr dækket af gruppen. Derudover skal du vælge om du sover
  og eller spiser med os andre. (Mad vælges for hele dagen)
LOCATION:Strandboerne - Vallensbæk Gruppe\, Rendsagervej 3\, 2625 Vallens
 bæk
END:VEVENT
BEGIN:VEVENT
SUMMARY:Spejdernes Lejr 2026
DTSTART:20260718T100000Z
DTEND:20260726T120000Z
DTSTAMP:20260421T082729Z
UID:24252@a3abba42-5f96-11ee-a13d-0242ac19e003
DESCRIPTION:Kære spejdere og forældreVi har en helt særligt spejderlejr
  foran os – SPEJDERNES LEJR 2026!Hvert femte år samles tusindvis af spe
 jdere fra hele Danmark (og mange andre lande) til en kæmpe sommerlejr\, o
 g igen går turen til Hedeland Naturpark på Sjælland. Fra den 18. juli 
 til den 26. juli 2026 vil vi opleve ni dage fyldt med spejderliv\, sjove a
 ktiviteter\, nye venskaber og masser af fællesskab Praktisk info:Tid: 18
 .–26. juli 2026 (kortere periode for de yngste)Sted: Hedeland Naturpark\
 , SjællandPris: 2000 kr. for hele lejren – der er billigere pris for k
 ortere deltagelse. Transport: Vi arrangerer fælles transport\, så alle 
 kommer godt frem og tilbageBesøgsdag: Familie og venner er meget velkomne
  til at besøge lejren på en særlig åben dagBetaling: Spejdernes lejr e
 r kontantløs\, derfor kommer alt betaling til at foregå med enten chipar
 mbånd\, som alle spejdere får udleveret\, hvor man kan sætte penge ind 
 på armbåndet. Mere info følger. Ellers kan der bruges betalingskort.Vi 
 glæder os til at tage på eventyr sammen med jer! Følg linket for mere p
 raktisk info Spejdernes Lejr 2026Andet info som pakkeliste og mødested ko
 mmer senere.Hvis der er spørgsmål til det mindste\, så kan I kontakte s
 pejderlederne i jeres enhed.Frist for tilmeldelse er den 05-02-2026.Tilmel
 ding/betaling er bindende.\n\n
LOCATION:Hedeland Naturpark\, Hedeland Naturpark\, Tranemosevej 2\, 2640 H
 edehusene
END:VEVENT
BEGIN:VEVENT
SUMMARY:Kullenturen 2026
DTSTART:20260529T150000Z
DTEND:20260531T150000Z
DTSTAMP:20260421T082729Z
UID:31227@a3abba42-5f96-11ee-a13d-0242ac19e003
DESCRIPTION:Kære Clanbasse\,Foråret er lige rundt om døren\, og det bli
 ver igen tid til at komme ud og opleve Kullen i Skåne. I år deler vi tur
 en op i en vandre/ seværdighedstur samt en klatretur. Du vælger altså p
 å forhånd\, om du har lyst til at opleve det spændende landskab og sev
 ærdigheder\, eller om du er mere til klatring.Der er særdeles mange fine
  vandre og seværdighedsture\, og deltagerne er selv med til at udvælge p
 rogrammet. Her er nogle eksempler:- Vandreruter på Kullen: https://www.ku
 llabergsnatur.se/naturum-kullaberg/- En tur til micronationen Ladonia: htt
 ps://www.ladonia.org/- Gode fika steder: https://www.rucksack.se/fika-pa-k
 ullahalvon-mysiga-cafeer/- Udforskning af ”synden i Mölle”: https://w
 ww.ransvik.se/korparna-och-nastet/ eller https://www.ransvik.se/- Minedrif
 t i den gamle sølvgrotte: https://www.naturkartan.se/sv/skane-lan/silverg
 rottanHerlighederne foregår I weekenden 29-31 maj. Alt det praktiske: \n
 \n\n\n\n\n\n\n\n\n\n\n\n\n\n\n\n\n\nAlt det praktiske:\n \n  \n  Transport
 :\n  \n  \n  Fredag efter\n  arbejde kører vi til campingpladsen. Bro ell
 er færge benyttes\, alt efter hvad\n  der er billigst. Hjemtransport fore
 går søndag eftermiddag.\n  \n \n \n  \n  Overnatning:\n  \n  \n  Vi\n  i
 ndlogerer os i telt på Mölle camping\, hvor der er gode gratis\n  badefa
 ciliteter.\n  \n \n \n  \n  Økonomi:\n  \n  \n  Turens pris\n  er 400 kr.
 \, som dækker mad fra lørdag morgen til og med søndag frokost samt\n  c
 amping\, færge/bro. Benzin til chaufføren betales i udgangspunktet af\n 
  passagererne. (Hvis der er overskud I regnskabet bruges dette til at afre
 gne\n  benzin)\n  \n \n \n  \n  Forsikring:\n  \n  \n  Turen\n  anmeldes t
 il korpset\, der har forsikring til såkaldt ”farlig sport”\, som\n  d
 eltagerne er dækket af.\n  \n \n \n  \n  Vandretøj:\n  \n  \n  Der er b
 åde\n  lette vandreruter og andre med svære nedstigninger. Sko og tøj e
 fter eget\n  valg. Solcreme og badebukser efter vejret.\n  \n \n \n  \n  K
 latretøj:\n  \n  \n  Er man ny\,\n  kan man med fordel medtage lidt løst
 siddende tøj til klatringen. Gerne et par\n  gummisko med tynde såler\, 
 der kan tåle at blive slidt. F.eks. er Addidas\n  Handball ganske gode at
  klatre i\, hvis man ikke ejer et par klatresko.\n  Nedturen til klatrerut
 erne kræver desuden godt fodtøj. Husk også solcreme.\n  \n \n \n  \n  R
 ygsæk 30L:\n  \n  \n  Medbring en\n  rygsæk\, med plads til tøj\, mad\,
  og lidt fællesgrej\, der kan bæres rundt\n  (Minimum 30 liter)\n  \n \n
  \n  \n  Fællesudstyr:\n  \n  \n  Der\n  medbringes Telte\, klatreudstyr\
 , kogegrej\, mad\n  \n \n \n  \n  Campingudstyr:\n  \n  \n  Medbring ligge
 underlag\,\n  sovepose\, spisegrej + viskestykke\, tøj til vejret\, hånd
 klæde og shampoo. \n  \n \n \n  \n  Information\n  til arrangørerne:\n  
 \n  \n  Vi vil gerne\n  vide om du ønsker at vandre eller klatre. Fortæl
  venligst om du har mulighed\n  for at have en bil med. Har du egen klatre
 sele / klatrehjelm\, så lad os også\n  vide det.\n  Har du lyst\n  til a
 t tage med\, så vil vi bede om din tilmelding inden d.1/4\, da vi derved\
 n  kan benytte påsketilbud på campingpladsen.\n  \n \n \n  \n  Arrangør
 er:\n  \n  \n  På turen vil\n  Michael Rask være klatreansvarlig\, og un
 dertegnede står for tilmelding samt\n  økonomi.\n  \n \n \n\n\n\n\n\n\n
 \n\n\n\n\n\n\n\n\n\n\n\nKullen hilsenMichael og Peter Skak (tlf.: 40 50 00
  02)\n\n\n\n\n\n\n\n\n\n\n\n
LOCATION:Strandboerne - Vallensbæk Gruppe\, Rendsagervej 3\, 2625 Vallens
 bæk
END:VEVENT
BEGIN:VEVENT
SUMMARY:Royal Run
DTSTART:20260525T100000Z
DTEND:20260525T160000Z
DTSTAMP:20260421T082729Z
UID:18513@a3abba42-5f96-11ee-a13d-0242ac19e003
DESCRIPTION:📣 Indbydelse til Royal Run 2025 🏃‍♀️👑Kære Same
 r!I år skal vi være med til noget helt særligt – Royal Run!\nDet er e
 n dag fyldt med motion\, fællesskab og kongelig stemning\, hvor vi sammen
  viser\, at spejdere kan både løbe\, gå og heppe med højt humør.🗓 
 Hvornår: 2. Pinsedag. Mandag den 25. Maj\n📍 Hvor: KBH/FRB\n👕 Tøj
 : Spejdertørklæde og uniform + løbetøj\n🥤 Husk: Vandflaske\, gode s
 ko og et stort smil!Vi deltager som Samerne-holdet på 5 km\, uanset om d
 u vil løbe hurtigt eller gå i roligt tempo og sprede spejderglæde - s
 å alle kan være med.Tilmelding senest: den 24. September Vi glæder os 
 til en dag med fart\, fest og fællesskab! 🎉\nSpejderhilser ⚜⚜️
LOCATION:Strandboerne - Vallensbæk Gruppe\, Rendsagervej 3\, 2625 Vallens
 bæk
END:VEVENT
BEGIN:VEVENT
SUMMARY:Distriksweekend 2026 - juniorer
DTSTART:20260508T170000Z
DTEND:20260510T100000Z
DTSTAMP:20260421T082729Z
UID:25502@a3abba42-5f96-11ee-a13d-0242ac19e003
DESCRIPTION:KAN I HUSKE DISTRIKTSWEEKENDEN SIDSTE ÅR PÅ LERBJERGCENTERET
 ? 🏕️🌲HVOR TEMAET VAR “DUMT OG FARLIGT” 🔥– OG INGEN HELT V
 IDSTE\, HVAD DER VENTEDE? 😄NU ER DET TID IGEN! ✨FRA 8.–10. MAJ SAML
 ES GRUPPER FRA HELE VORES DISTRIKT TIL EN WEEKEND FYLDT MED SPEJDERLIV\, F
 ÆLLESSKAB OG MASSER AF OPLEVELSER – PRÆCIS SOM SIDSTE ÅR.🧭 🙌HVA
 D BLIVER TEMAET I ÅR? 🤔🎭DET VED VI IKKE ENDNU… OG DET GØR DET JO
  KUN ENDNU MERE SPÆNDENDE!ÉN TING ER SIKKERT: DISTRIKTSSTABEN HAR IGEN N
 OGET I ÆRMET 😍🔥VI SENDER MERE INFORMATION UD\, SÅ SNART VI FÅR DE
 TALJER FRA DISTRIKTSSTABEN\, SOM STÅR FOR WEEKENDEN 🤸‍♀️🎯GLÆ
 D JER TIL EN WEEKEND MED SPEJDERE FRA HELE DISTRIKTET\, SJOVE AKTIVITETER 
 OG NYE MINDER – DET BLIVER EN\, I IKKE VIL GÅ GLIP AF! 🎉🏕️⚜
 ️💚KRA KRA FRA JERES LEDERE\,ANNIKA\, GUSTAV\, KRISTIAN OG TRINE
LOCATION:Strandboerne - Vallensbæk Gruppe\, Rendsagervej 3\, 2625 Vallens
 bæk
END:VEVENT
BEGIN:VEVENT
SUMMARY:Ulveweekend med distriktstournering
DTSTART:20260508T170000Z
DTEND:20260510T100000Z
DTSTAMP:20260421T082729Z
UID:32288@a3abba42-5f96-11ee-a13d-0242ac19e003
DESCRIPTION:Så er det endelig blevet tid til ulveweekend! Glæd jer til 
 en weekend fuld af sjov! Vi skal hygge og ikke mindst konkurrere med spej
 dere fra hele distriktet ved det årlige ulvemesterskabFor mere informat
 ion tjek det vedhæftede dokument.​Tilmeld jer gerne hurtigst muligt da 
 deadlinen er snart. Eftertilmelding vil dog være muligt\, da vi godt ved 
 vi skriver ud sent. Skriv blot til os og så skal vi nok få det fikset!PS
 . selvom vi gør hvad vi kan for at undgå hjemve\, beder vi forældrene 
 sikre at der er minimum én\, som vi kan komme i kontakt\, og som kan hent
 e hjem\, hvis der ikke er anden udvej. Pakkeliste (Blot vejledende\, pak 
 efter vejr og behov)generelt:taskevandtætte poser fx plastikposer - (pak
  alt i sorterede poser og forklar ulvene hvordan man finder rundt i dem)
 Sovepose​Liggeunderlag Tøj:3 sæt undertøj3 par sokker (evt. et par t
 ykke uldsokker)\n\n1 sæt nattøj eller varmt uldundertøj/skiundertøj\n\
 n1 T-shirt1 langærmet trøje1-3 par bukser1 uniform og tørklæde (hvis m
 an har)1 par gode sko man kan gå i en hel dag1 jakke \n\nevt. en fleec
 e trøje / varm trøje\n\n1 sæt regntøj  Madlavning:Madsæt (flad &amp
 \; dyb tallerken\, bestik/spork\, kop/mug)DrikkedunkViskestykke (med navn 
 på)Toiletgrej:Tandbørste &amp\; tandpastaMedicinSolcreme og aftersun (af
 hængig af årstiden)Småt håndklædeDiverse:Lommelygte og evt. pencillyg
 teDolkKuglepen og papirKnobtov​Sygesikringsbevis (i lynlåslomme i unifo
 rmen) 
LOCATION:Lerbjergcentret\, Lerbjergvej 25\, 4330 Hvalsø
END:VEVENT
END:VCALENDAR
