BEGIN:VCALENDAR
VERSION:2.0
PRODID:SG Member / Odoo / icalendar
BEGIN:VEVENT
SUMMARY:Spejdernes Lejr 2026 - Forhåndstilmelding
DTSTART:20260717T220000Z
DTEND:20260725T220000Z
DTSTAMP:20260422T083348Z
UID:21621@a3abba42-5f96-11ee-a13d-0242ac19e003
DESCRIPTION:Lejren vil vare en halv uge for juniortrop - fra d. 22. juli t
 il d. 26. juli - og hele lejrperioden for de øvrige enheder. Ved tilmeld
 ing før februar 2026 vil lejren estimeret koste 2.000 kr. for junior\, 0 
 kr. for ledere og 2.600 kr. for øvrige enheder. Vi vil opkræve betaling
 en i månedlige rater fra november 2025. I første halvår 2026 vil vi iga
 ngsætte indsamlingsaktiviteter sammen med spejderne. Efter forhåndstilm
 elding lægger vi et budget for vores deltagelse i lejren. Og så melder v
 i lidt mere ud om økonomi og betaling og hvor meget vi forventer at indsa
 mle i fællesskab. 
LOCATION:Hedeland Naturpark\, Tranemosevej\, 2640 Hedehusene
END:VEVENT
END:VCALENDAR
