BEGIN:VCALENDAR
VERSION:2.0
PRODID:SG Member / Odoo / icalendar
BEGIN:VEVENT
SUMMARY:Spejdernes Lejr 2026
DTSTART:20260725T220000Z
DTEND:20260725T220000Z
DTSTAMP:20260421T125227Z
UID:24925@a3abba42-5f96-11ee-a13d-0242ac19e003
DESCRIPTION:Spejdernes Lejr\nforegår fra 18. til 26. juli 2026 i Hedeland
  Naturpark. Det er otte dage fulde\naf sjove aktiviteter\, nye venskaber\,
  store oplevelser og masser af spejderliv\nsammen med dem du kender fra gr
 uppen\, men med rig mulighed for at møde spejdere\npå tværs af korps fr
 a resten af Danmark og hele verden. Vi fra Skodborg\nGruppe skal selvfølg
 elig også med\, og vi håber\, at DU vil være en del af\noplevelsen!Hvor
 for skal du\nmed på Spejdernes Lejr 2026?Spejdernes Lejr\ner en lidt stø
 rre oplevelse\, end du er vant til fra gruppeture og centerlejre.\nLejren 
 foregår hvert fjerde år forskellige steder i Danmark. Hvis du tager med\
 npå Spejdernes Lejr 2026 får du:·       \nEn hel uge fyldt med a
 ktiviteter\,\nudfordringer og oplevelser.·       \nEt unikt fælle
 sskab med spejdere\nfra hele landet (og resten af verden).·       
 \nMuligheden for at opleve en hel spejderby\,\nhvor 30.000 af børn\, unge
  og voksne bor\, leger\, lærer og arbejder sammen.·       \nMinde
 r for livet!Praktisk lejrenHvornår: ·       \nJunior/Trop/Rover: 
 18 til 26.\njuli 2026·       \nUlve: 22 ti 26 juli 2026Hvor: Hedel
 and Naturpark ved RoskildePris:·       \nJunior/Trop/Rover: 1150\,
 - kr.·       \nUlve: 657\,- krTransport:Junior\, Trop og\nRover re
 jser samlet afsted den 18. juli\, mens Ulve rejser den 22. juli.Hele grupp
 en\nfølges hjem den 26.Afgang og hjemkomst\nvil sk fra et opsamlingssted 
 i Vejen Kommune - nærmere information følgerTilmeldingsfristen.\n20 febr
 uar 2026\n\n\n\n\n\nYderligere\ninformationsmøder vil blive afholdes i l
 øbet af foråret 2026Har du spørgsmål\nkontakt:·       \nJesper
  28 72 40 17·       \nHenrik 51 84 81 30·       \nKarsten 
 20 82 69 72\n\n\n\n\n\n 
LOCATION:Skodborg Gruppe\, Industriparken 20\, Skodborg\, 6630 Rødding
END:VEVENT
BEGIN:VEVENT
SUMMARY:Vandre weekende 2026
DTSTART:20260530T043000Z
DTEND:20260531T120000Z
DTSTAMP:20260421T125227Z
UID:30292@a3abba42-5f96-11ee-a13d-0242ac19e003
DESCRIPTION:🌲 Fanø Rundt 2026– Klar til eventyr? 🌲Den 30.–31. m
 aj 2025 drager Fenja Gruppens spejdere igen på den traditionsrige tur ”
 Fanø Rundt” – en weekend fyldt med fællesskab\, udfordringer og gode
  oplevelser i naturen.🚩 Afgang og hjemkomst\nVi mødes ved spejderhytte
 n lørdag den 30. maj kl. 06:30\, klar til afgang mod færgen fra Esbjerg 
 kl. 07:50.\nBagage transporteres i lederbiler til lejrpladsen.\nVi forvent
 er at være tilbage ved spejderhytten søndag den 31. maj ca. kl. 14:00 (a
 nkomst til Esbjerg omkring kl. 13:00).🥪 Mad og forplejning\nSpejderne s
 kal selv medbringe:\n\nEn god og solid madpakke til lørdag frokost\n\n\nD
 rikkedunk/vand\n\n\nSnacks til begge dage\n\nVi sørger for:\n\nAftensmad 
 lørdag\n\n\nMorgenmad søndag\n\n⛺ Overnatning\nVi overnatter i shelter
 /telte ved Annesdalbjergene\, midt i naturen.🎒 Udstyr\nMedbring en lill
 e turrygsæk til vandringen med:\n\nMadpakke\n\n\nDrikkedunk\n\n\nRegntøj
 \n\n\nSnacks\n\nØvrig bagage køres til lejrpladsen.🥾 Vandreturen\nTur
 en er cirka 50 km lang\, med den længste etape om lørdagen.\nDen er prim
 ært målrettet Junior-\, Trop- og Seniorspejdere\, men alle med lyst og m
 od til at udfordre sig selv er velkomne. 💪🏅 Mærker og udfordringer\
 nGennemfører du hele turen\, får du det eftertragtede “Fanø Rundt”-
 mærke.\nHar du det allerede\, kan du optjene en ekstra stjerne til dit m
 ærke ⭐Hvis hele turen bliver for stor en udfordring\, er det muligt at 
 blive hentet undervejs.\nDelstrækninger på 10 km\, 20 km eller 30 km giv
 er hver sit vandreskjold.🚗 Transport\nNår tilmeldingen er afsluttet\, 
 planlægger vi transporten og finder ud af\, hvor mange forældre vi får 
 brug for til at hjælpe med kørsel.\n\n💰 Pris: 375 kr. \n\n\n\n 
LOCATION:Skodborg Gruppe\, Industriparken 20\, Skodborg\, 6630 Rødding
END:VEVENT
END:VCALENDAR
