BEGIN:VCALENDAR
VERSION:2.0
PRODID:SG Member / Odoo / icalendar
BEGIN:VEVENT
SUMMARY:Projekt spejder
DTSTART:20260918T080000Z
DTEND:20260919T180000Z
DTSTAMP:20260422T112339Z
UID:30511@a3abba42-5f96-11ee-a13d-0242ac19e003
LOCATION:Felsted Gruppe\, Tornhøjvej 18\, Tumbøl\, 6200 Aabenraa
END:VEVENT
BEGIN:VEVENT
SUMMARY:Bæver og Ulve Sommerlejr 2026
DTSTART:20260627T080000Z
DTEND:20260630T143000Z
DTSTAMP:20260422T112339Z
UID:32284@a3abba42-5f96-11ee-a13d-0242ac19e003
LOCATION:Møntervang Spejdercenter\, Mønterhøjvej 62\, 6200 Aabenraa
END:VEVENT
BEGIN:VEVENT
SUMMARY:Bæver og Ulvesommerlejr
DTSTART:20260627T080000Z
DTEND:20260630T180000Z
DTSTAMP:20260422T112339Z
UID:25090@a3abba42-5f96-11ee-a13d-0242ac19e003
LOCATION:Felsted Gruppe\, Tornhøjvej 18\, Tumbøl\, 6200 Aabenraa
END:VEVENT
BEGIN:VEVENT
SUMMARY:Bæver og Ulveweekend 2026
DTSTART:20260605T150000Z
DTEND:20260606T130000Z
DTSTAMP:20260422T112339Z
UID:33133@a3abba42-5f96-11ee-a13d-0242ac19e003
LOCATION:Ravnhøj (shelterne)\, Ravnhøjvej 6\, Bovrup\, 6200 Aabenraa
END:VEVENT
BEGIN:VEVENT
SUMMARY:Slivsø turnering
DTSTART:20260605T080000Z
DTEND:20260607T180000Z
DTSTAMP:20260422T112339Z
UID:30510@a3abba42-5f96-11ee-a13d-0242ac19e003
LOCATION:Felsted Gruppe\, Tornhøjvej 18\, Tumbøl\, 6200 Aabenraa
END:VEVENT
BEGIN:VEVENT
SUMMARY:Sejlerlejr
DTSTART:20260522T080000Z
DTEND:20260524T180000Z
DTSTAMP:20260422T112339Z
UID:30509@a3abba42-5f96-11ee-a13d-0242ac19e003
LOCATION:Felsted Gruppe\, Tornhøjvej 18\, Tumbøl\, 6200 Aabenraa
END:VEVENT
BEGIN:VEVENT
SUMMARY:Bæver og Ulveturnering
DTSTART;VALUE=DATE:20260516
DTEND;VALUE=DATE:20260516
DTSTAMP:20260422T112339Z
UID:30508@a3abba42-5f96-11ee-a13d-0242ac19e003
LOCATION:Felsted Gruppe\, Tornhøjvej 18\, Tumbøl\, 6200 Aabenraa
END:VEVENT
BEGIN:VEVENT
SUMMARY:Sct. Georgs dag
DTSTART:20260423T150000Z
DTEND:20260423T170000Z
DTSTAMP:20260422T112339Z
UID:30507@a3abba42-5f96-11ee-a13d-0242ac19e003
LOCATION:Felsted Gruppe\, Tornhøjvej 18\, Tumbøl\, 6200 Aabenraa
END:VEVENT
BEGIN:VEVENT
SUMMARY:Sct. Georgs arrangement 2026
DTSTART:20260423T150000Z
DTEND:20260423T170000Z
DTSTAMP:20260422T112339Z
UID:32045@a3abba42-5f96-11ee-a13d-0242ac19e003
LOCATION:Rinkenæs Korskirke\, Kirkevej 1\, Rinkenæs\, 6300 Gråsten
END:VEVENT
END:VCALENDAR
