BEGIN:VCALENDAR
VERSION:2.0
PRODID:SG Member / Odoo / icalendar
BEGIN:VEVENT
SUMMARY:Spejdernes Lejr 2026
DTSTART:20260718T060000Z
DTEND:20260726T140000Z
DTSTAMP:20260421T112141Z
UID:24912@a3abba42-5f96-11ee-a13d-0242ac19e003
DESCRIPTION:​​​Så er tiden ved at være\ninde til at vi skal tilmel
 de os spejdernes lejr 2026\n\n​Vi er ved at gøre os klar til spejdernes
  lejr 2026\, men vi har brug for jeres tilmelding. Denne her tilmelding bl
 iver bindende og kan ikke fortrydes.Spejdernes Lejr foregår  på Sjælla
 nd ved Hedeland Naturpark i uge 30 (18. juli til 26. juli) og bliver nor
 dens største sommerlejr med mere end 30.000 spejdere samlet.Temaet på SL
 2026 er i år bygget op om ”Alle ind i fællesskabet”\,\nsom sætter f
 okus på\, at mødes på tværs af alder\, korps\, landsdele og erfaring. 
 Det handler om at være nysgerrige på hinanden\, at tage ansvar for fæll
 esskabet\, få nye perspektiver og give plads til både de store fællessk
 aber og de små øjeblikke. Temaet møder vi overalt på lejren ved de for
 skellige aktiviteter\, de store og små lejrbål og når du bevæger dig r
 undt på lejren. Du har mulighed for at deltage på hele lejren fra lør
 dag til søndag eller som en kort lejr fra søndag til onsdag. Vi kan love
  at det bliver en uge/ 4\ndage\, med masser af aktiviteter og fantastiske 
 oplevelser. Det er muligt for alle spejdere i KFUM Børkop at tilmelde sig
  SL2026\, men for spejdere fra 2. klasse og nedefter kræver deltagelse i 
 Spejdernes Lejr\, at spejderen har følgeskab af en forældre\, som ligele
 des skal tilmeldes i de samme antal dage. Der betales for begge. Vi vil k
 omme til at være i lejrområde sammen med alle spejdergrupper fra Vejle 
 Kommune. Så der bliver masser af\nmuligheder for at være sammen med ens 
 kammerater på tværs af de forskellige\ngrupper samt få nye venner.Delta
 gerprisen er 1950 kr. for hele ugen eller 1300 kr. for 4 dage (3 overnatni
 nger). Prisen dækker transport frem og tilbage\, aktiviteter\, overnatni
 ng\, forplejning\,\nlejrmærke og masser af fede oplevelser.Afgang: lørda
 g d. 18. juli eller søndag d. 19 juli.   Hjemkomst: onsdag d. 22. ju
 li eller søndag d. 26. juli\nSted: Hedeland Naturpark ved Roskilde\nSaml
 et Pris: 1950 kr. for hele ugen eller 1300 kr. for 4 dage. \n\nBetaling 
 kan ske samlet eller over 2 rater. Vælges ratebetaling\, betales første 
 rate ved tilmelding. 2. rate opkræves  i april.\n\nHvis man som familie 
 har lyst til at opleve lejrstemningen mens ens børn er på lejr er der mu
 lighed for at slå lejr på familielejr. Mere info om dette kommer først
  til marts.\nKontaktpersoner: Trine Toft 24 43 93 40 eller Per Budde 21 4
 8 96 01. Læg evt. en besked\, så vender vi tilbage.\n\n\n\n\n\n\n\n\n\n\
 n\n\n\n\n\nNår vi nærmere os\, kommer der yderligere oplysninger om tran
 sport til og fra lejren\, hvor vi er placeret på lejren\, lommepenge\, p
 akkeliste m.m.\n\n
END:VEVENT
BEGIN:VEVENT
SUMMARY:Deltagelse ved Adam og Sylvesters konfirmation
DTSTART:20260510T092000Z
DTEND:20260510T103000Z
DTSTAMP:20260421T112141Z
UID:32003@a3abba42-5f96-11ee-a13d-0242ac19e003
DESCRIPTION:Vi skal ud og stå med fanerne til konfirmationen. Vi mødes f
 oran Gauerslund kirke præcis kl. 11:20. Det er et krav at spejderne har u
 niform på. Vi skal min. bruge 2 spejdere\, men vi ser gerne at alle stø
 tter op om deres kammerater. Så alle oplever at der kommer nogen til dere
 s konfirmation også. \n\n
LOCATION:Børkop Gruppe\, Bundsgaard 37\, 7080 Børkop
END:VEVENT
BEGIN:VEVENT
SUMMARY:Deltagelse ved Oliver's konfirmation
DTSTART:20260502T072000Z
DTEND:20260502T083000Z
DTSTAMP:20260421T112141Z
UID:32004@a3abba42-5f96-11ee-a13d-0242ac19e003
DESCRIPTION:Vi skal ud og stå med fanerne til konfirmationen. Vi mødes f
 oran Gauerslund kirke præcis kl. 9:20. Det er et krav at spejderne har un
 iform på. Vi skal min. bruge 2 spejdere\, men vi ser gerne at alle støt
 ter op om deres kammerater. Så alle oplever at der kommer nogen til deres
  konfirmation også. \n\n
LOCATION:Børkop Gruppe\, Bundsgaard 37\, 7080 Børkop
END:VEVENT
BEGIN:VEVENT
SUMMARY:Deltagelse ved Lucca's konfirmation
DTSTART:20260425T092000Z
DTEND:20260425T103000Z
DTSTAMP:20260421T112141Z
UID:32006@a3abba42-5f96-11ee-a13d-0242ac19e003
DESCRIPTION:Vi skal ud og stå med fanerne til konfirmationen. Vi mødes f
 oran Gauerslund kirke præcis kl. 11:20. Det er et krav at spejderne har u
 niform på. Vi skal min. bruge 2 spejdere\, men vi ser gerne at alle stø
 tter op om deres kammerater. Så alle oplever at der kommer nogen til dere
 s konfirmation også. \n\n
LOCATION:Børkop Gruppe\, Bundsgaard 37\, 7080 Børkop
END:VEVENT
END:VCALENDAR
