BEGIN:VCALENDAR
VERSION:2.0
PRODID:SG Member / Odoo / icalendar
BEGIN:VEVENT
SUMMARY:KANDERSTEG 2026 - Endelig tilmelding
DTSTART:20260703T140000Z
DTEND:20260712T180000Z
DTSTAMP:20260422T140207Z
UID:30361@a3abba42-5f96-11ee-a13d-0242ac19e003
DESCRIPTION:Anden Rate (1.500 kr)Fuld tilmelding (2.500 kr)Junior eller Tr
 op-spejderne tager til Kandersteg International Scout Centre i Schweiz til
  sommer. Alle forhåndstilmeldte er sikret plads\, og der er stadig 15 "t
 omme pladser" i bussen! Så hvis du er Familiespejder\, Bæver eller Ulv 
 (eller forælder til en forhåndstilmeldt) og gerne vil med\, så tilmeld 
 dig og din familie (mindst 1 voksen)! Hvor skal vi hen? Kandersteg Intern
 ational Scout Centre blev grundlagt af Baden-Powell i 1923\, og har funger
 et som "permanent spejderjamboree" lige siden (kun afbrudt af krigen). Hv
 ad koster det? Den samlede pris for en uges all-inclusive på Spejdercente
 r - inklusiv rejse tur/retur - bliver 2.500 kroner. Vi har i bestyrelsen b
 esluttet\, at Kaløvig Gruppe dækker resten.Hvornår skal vi afsted? Ture
 n foregår i uge 28 - med afrejse fredag 3. juli og hjemkomst søndag 12. 
 juli. Hvordan kommer vi frem og tilbage? Vi har lejet en bus\, så der b
 liver ingen stress over at skulle skifte togstation og lignende ned gennem
  Tyskland.Kan jeg komme med\, selv om jeg ikke er Junior eller Trop-spejde
 r? Ja - hvis du er hurtig! Der er nemlig 15 ekstra ledige pladser i bussen
 \, som vi har besluttet at åbne for alle interesserede\, uanset gren. Ene
 ste krav er\, at hvis du er Familiespejder\, Bæver eller Ulv\, så skal 
 du have (mindst) en voksen med (der også skal tilmelde sig). Så hvis du
  gerne vil afsted med hele familien til Schweiz til sommer\, for kun 2.500
  kr pr. person "all inclusive"\, så meld jer til!PS) Hvis du vil tilmelde
  flere personer\, så kan du gøre det smartest ved at tilmelde jer "en ad
  gangen" - og blot trykke på linket "tilmeld flere deltage" på den sids
 te trin i tilmeldingen\, lige inden du afslutter tilmeldingen. Så bliver 
 der nemlig kun een betalings-transaktion!
LOCATION:Kandersteg International Scout Centre\, Wagetiweg 7\, 3718 Kander
 steg\, Schweiz
END:VEVENT
BEGIN:VEVENT
SUMMARY:KANDERSTEG 2026 - første rate
DTSTART:20260703T100000Z
DTEND:20260712T100000Z
DTSTAMP:20260422T140207Z
UID:24748@a3abba42-5f96-11ee-a13d-0242ac19e003
DESCRIPTION:Forhåndstilmelding (1.000 kr)Er du Junior eller Trop-spejder\
 , og skal du med til Kandersteg International Scout Centre i Schweiz til s
 ommer? Så er det nu\, du kan sikre dig en plads!Hvor skal vi hen? Kanders
 teg International Scout Centre blev grundlagt af Baden-Powell i 1923\, og 
 har fungeret som "permanent spejderjamboree" lige siden (kun afbrudt af kr
 igen). Hvad koster det? Den samlede pris for en uges all-inclusive på Sp
 ejdercenter - inklusiv rejse tur/retur - bliver 2.500 kroner. Vi har i bes
 tyrelsen besluttet\, at Kaløvig Gruppe dækker resten - men vi har brug f
 or en idé om\, hvor mange der vil med. Derfor denne forhåndstilmelding\,
  der kan betragtes som "første rate" af betalingen.Hvornår skal vi afste
 d? Turen foregår i uge 28 - med forventet afrejse fredag 3. juli og hjemk
 omst søndag 12. juli. (Alt afhængigt af togtider kan det tænkes\, at vi
  først tager afsted lørdag 4. juli - vi er klogere\, når køreplanen ud
 kommer)Hvordan kommer vi frem og tilbage? Vi regner med at tage toget - me
 n alt afhængigt af deltagerantallet kan en bus måske komme på tale.Kan 
 du ikke deltage? Så vil vi også gerne vide det! Du kan melde afbud via d
 enne formular
LOCATION:Kandersteg International Scout Centre\, Wagetiweg 7\, 3718 Kander
 steg\, Schweiz
END:VEVENT
END:VCALENDAR
