BEGIN:VCALENDAR
VERSION:2.0
PRODID:SG Member / Odoo / icalendar
BEGIN:VEVENT
SUMMARY:Bæver-/ulveturnering 2026
DTSTART:20260514T070000Z
DTEND:20260514T133000Z
DTSTAMP:20260420T133120Z
UID:33091@a3abba42-5f96-11ee-a13d-0242ac19e003
DESCRIPTION:På Kristi Himmelfarts dag er der traditionen tro turnering fo
 r alle bævere og ulve i Aalborg-området\, og vi skal naturligvis deltage
 . I år foregår turneringen hos spejderne i Aabybro\, og temaet er "Nepa
 l" så der skal laves en masse sjove og anderledes opgaver rundt i Nepal.I
 nteresserede forældre\, søskende mm. er velkommen fra kl. 14.30 til den 
 fælles afslutning og præmieoverrækningen.Husk en lille rygsæk med mad
 pakke og drikkelse til frokost + evt. regntøj \n\n\n\n
LOCATION:Myretuen\, Gammel Viborgvej 55\, Svenstrup\, 9230 Svenstrup J
END:VEVENT
BEGIN:VEVENT
SUMMARY:Ridder-aften
DTSTART:20260423T160000Z
DTEND:20260423T173000Z
DTSTAMP:20260420T133120Z
UID:31996@a3abba42-5f96-11ee-a13d-0242ac19e003
DESCRIPTION:Glæd dig til masser af spændende aktiviteter hvor du kan øv
 e dig i forskellige\nridder-evner. Du kan bl.a. teste hvor stærk du er\, 
 eller lære at fægte og måske\nkan du også kæmpe mod en drage.Aftenen 
 er for hele familien\, og vi giver aftensmaden\, så det skal I ikke tænk
 e på .  
LOCATION:Svenstrup Gruppe\, Gammel Viborgvej 55\, Svenstrup\, 9230 Svenstr
 up J
END:VEVENT
BEGIN:VEVENT
SUMMARY:Forældrehjælp i 2026
DTSTART:20260316T091000Z
DTEND:20270331T081000Z
DTSTAMP:20260420T133120Z
UID:30356@a3abba42-5f96-11ee-a13d-0242ac19e003
DESCRIPTION:Kære forældre.Vores ledere gør et stort frivilligt\narbejde
  for at give jeres børn nogle rigtig gode spejderoplevelser\, både på d
 e\nugentlige møder og på weekendture og sommerlejre. \nFor at vores led
 ere kan bruge tiden på netop at lave gode spejderaktiviteter\nfor jeres b
 ørn\, har vi brug for jeres hjælp til nogle praktiske opgaver\, så vi\n
 fortsat kan have nogle gode fysiske rammer og fastholde et lavt kontingent
 . Vi\nvil derfor bede jer om at sætte mindst to krydser på denne seddel
  om forældrehjælp.\nPå forhånd tak for hjælpen J.Spejderhilsen Besty
 relsen   
LOCATION:Svenstrup Gruppe\, Gammel Viborgvej 55\, Svenstrup\, 9230 Svenstr
 up J
END:VEVENT
END:VCALENDAR
